BEGIN:VCALENDAR
VERSION:2.0
PRODID:-//Sang a Klang - ECPv4.6.14.1//NONSGML v1.0//EN
CALSCALE:GREGORIAN
METHOD:PUBLISH
X-WR-CALNAME:Sang a Klang
X-ORIGINAL-URL:http://www.sangaklang.lu
X-WR-CALDESC:Events for Sang a Klang
BEGIN:VEVENT
DTSTART;TZID=UTC+0:20170311T180000
DTEND;TZID=UTC+0:20170311T230000
DTSTAMP:20180702T085133
CREATED:20170112T070044Z
LAST-MODIFIED:20170126T150111Z
UID:807-1489255200-1489273200@www.sangaklang.lu
SUMMARY:Soirée: Grupo Folclorico Mocidade Portuguesa
DESCRIPTION:Soirée / repas \nLe “Grupo Folclorico Mocidade Portuguesa asbl” donne une soirée. \nMme Conceiçao Branco  \n
URL:http://www.sangaklang.lu/evenement/grupo-folclorico-mocidade-portuguesa-asbl/
LOCATION:1\, rue des Trois Glands\, Luxembourg\, 1629\, Luxembourg
GEO:49.6150398;6.1340415
X-APPLE-STRUCTURED-LOCATION;VALUE=URI;X-ADDRESS=1 rue des Trois Glands Luxembourg 1629 Luxembourg;X-APPLE-RADIUS=500;X-TITLE=1\, rue des Trois Glands:geo:6.1340415,49.6150398
END:VEVENT
END:VCALENDAR