BEGIN:VCALENDAR
VERSION:2.0
PRODID:-//Sang a Klang - ECPv4.6.14.1//NONSGML v1.0//EN
CALSCALE:GREGORIAN
METHOD:PUBLISH
X-WR-CALNAME:Sang a Klang
X-ORIGINAL-URL:http://www.sangaklang.lu
X-WR-CALDESC:Events for Sang a Klang
BEGIN:VEVENT
DTSTART;TZID=UTC+0:20170506T120000
DTEND;TZID=UTC+0:20170506T150000
DTSTAMP:20180702T084310
CREATED:20170112T070007Z
LAST-MODIFIED:20170112T073323Z
UID:886-1494072000-1494082800@www.sangaklang.lu
SUMMARY:Association des Anciens gardiens de prison : Réunion
DESCRIPTION:
URL:http://www.sangaklang.lu/evenement/association-des-anciens-gardiens-de-prison-reunion/
LOCATION:1\, rue des Trois Glands\, Luxembourg\, 1629\, Luxembourg
GEO:49.6150398;6.1340415
X-APPLE-STRUCTURED-LOCATION;VALUE=URI;X-ADDRESS=1 rue des Trois Glands Luxembourg 1629 Luxembourg;X-APPLE-RADIUS=500;X-TITLE=1\, rue des Trois Glands:geo:6.1340415,49.6150398
END:VEVENT
END:VCALENDAR