BEGIN:VCALENDAR
VERSION:2.0
PRODID:-//Sang a Klang - ECPv4.7.3//NONSGML v1.0//EN
CALSCALE:GREGORIAN
METHOD:PUBLISH
X-WR-CALNAME:Sang a Klang
X-ORIGINAL-URL:http://www.sangaklang.lu
X-WR-CALDESC:Évènements pour Sang a Klang
BEGIN:VEVENT
DTSTART;VALUE=DATE:20170922
DTEND;VALUE=DATE:20170924
DTSTAMP:20190822T082825
CREATED:20170908T073215Z
LAST-MODIFIED:20170908T073215Z
UID:1047-1506038400-1506211199@www.sangaklang.lu
SUMMARY:oekofestival
DESCRIPTION:organisée par le Mouvement écologique \n
URL:http://www.sangaklang.lu/evenement/oekofestival/
LOCATION:Sang a Klang\, 1\, rue des Trois Glands\, Luxembourg\, 1629\, Luxembourg
CATEGORIES:Festival
END:VEVENT
END:VCALENDAR