BEGIN:VCALENDAR
VERSION:2.0
PRODID:-//Sang a Klang - ECPv4.7.3//NONSGML v1.0//EN
CALSCALE:GREGORIAN
METHOD:PUBLISH
X-WR-CALNAME:Sang a Klang
X-ORIGINAL-URL:http://www.sangaklang.lu
X-WR-CALDESC:Évènements pour Sang a Klang
BEGIN:VEVENT
DTSTART;VALUE=DATE:20190202
DTEND;VALUE=DATE:20190203
DTSTAMP:20201208T144634
CREATED:20190107T091713Z
LAST-MODIFIED:20190107T091719Z
UID:1246-1549065600-1549151999@www.sangaklang.lu
SUMMARY:CONCERT
DESCRIPTION:
URL:http://www.sangaklang.lu/evenement/concert/
END:VEVENT
END:VCALENDAR