BEGIN:VCALENDAR
VERSION:2.0
PRODID:-//Sang a Klang - ECPv5.7.0//NONSGML v1.0//EN
CALSCALE:GREGORIAN
METHOD:PUBLISH
X-WR-CALNAME:Sang a Klang
X-ORIGINAL-URL:http://www.sangaklang.lu
X-WR-CALDESC:évènements pour Sang a Klang
BEGIN:VTIMEZONE
TZID:Europe/Luxembourg
BEGIN:DAYLIGHT
TZOFFSETFROM:+0100
TZOFFSETTO:+0200
TZNAME:CEST
DTSTART:20190331T010000
END:DAYLIGHT
BEGIN:STANDARD
TZOFFSETFROM:+0200
TZOFFSETTO:+0100
TZNAME:CET
DTSTART:20191027T010000
END:STANDARD
END:VTIMEZONE
BEGIN:VEVENT
DTSTART;TZID=Europe/Luxembourg:20190217T140000
DTEND;TZID=Europe/Luxembourg:20190218T230000
DTSTAMP:20210721T030920
CREATED:20190107T090510Z
LAST-MODIFIED:20190107T090726Z
UID:1226-1550412000-1550530800@www.sangaklang.lu
SUMMARY:concert Latino
DESCRIPTION:
URL:http://www.sangaklang.lu/evenement/soiree-cabaret/
LOCATION:Sang a Klang\, 1\, rue des Trois Glands\, Luxembourg\, 1629\, Luxembourg
END:VEVENT
END:VCALENDAR