BEGIN:VCALENDAR
VERSION:2.0
PRODID:-//Sang a Klang - ECPv4.7.3//NONSGML v1.0//EN
CALSCALE:GREGORIAN
METHOD:PUBLISH
X-WR-CALNAME:Sang a Klang
X-ORIGINAL-URL:http://www.sangaklang.lu
X-WR-CALDESC:Évènements pour Sang a Klang
BEGIN:VEVENT
DTSTART;TZID=Europe/Luxembourg:20190312T140000
DTEND;TZID=Europe/Luxembourg:20190312T180000
DTSTAMP:20201208T144514
CREATED:20190107T091431Z
LAST-MODIFIED:20190107T091437Z
UID:1240-1552399200-1552413600@www.sangaklang.lu
SUMMARY:BIMBO THEATER
DESCRIPTION:
URL:http://www.sangaklang.lu/evenement/bimbo-theater-2/
END:VEVENT
END:VCALENDAR