BEGIN:VCALENDAR
VERSION:2.0
PRODID:-//Sang a Klang - ECPv4.4.0.1//NONSGML v1.0//EN
CALSCALE:GREGORIAN
METHOD:PUBLISH
X-WR-CALNAME:Sang a Klang
X-ORIGINAL-URL:http://www.sangaklang.lu
X-WR-CALDESC:Events for Sang a Klang
BEGIN:VEVENT
DTSTART;TZID=Europe/Luxembourg:20171217T190000
DTEND;TZID=Europe/Luxembourg:20171217T230000
DTSTAMP:20170621T024554
CREATED:20170126T154651Z
LAST-MODIFIED:20170126T154651Z
UID:980-1513537200-1513551600@www.sangaklang.lu
SUMMARY:Fête de Noel
DESCRIPTION:Centre Català de Luxembourg donne une fête de noel.\n\nPlus de détails peuvent être trouvés sur leur site d'internet: http://ccluxemburg.cat/ brèvement avant la soirée.\n
URL:http://www.sangaklang.lu/evenement/fete-de-noel/
LOCATION:1\, rue des Trois Glands\, Luxembourg\, 1629\, Luxembourg
GEO:49.6150398;6.1340415
X-APPLE-STRUCTURED-LOCATION;VALUE=URI;X-ADDRESS=1 rue des Trois Glands Luxembourg 1629 Luxembourg;X-APPLE-RADIUS=500;X-TITLE=1\, rue des Trois Glands:geo:6.1340415,49.6150398
END:VEVENT
BEGIN:VEVENT
DTSTART;TZID=UTC+0:20171208T200000
DTEND;TZID=UTC+0:20171208T200000
DTSTAMP:20170621T024554
CREATED:20170112T070032Z
LAST-MODIFIED:20170126T154007Z
UID:902-1512763200-1512763200@www.sangaklang.lu
SUMMARY:Blues Club /// à confirmer
DESCRIPTION:Blues Club Lëtzebuerg a.s.b.l.\nE-mail: info@bluesclub.lu\n\nPour vérifier la date du concert Blus Club\, le dernier pour cette année\, voir sur le site: http://www.bluesclub.lu/de/blues-konzerte/konzerte-blues-club/ \,s'il vous plâit.\n\nEintrittspreis:\n25€/27€/29€ (Mitglieder / Nicht-Mitglieder mit Reservierung / Nicht-Mitglieder Abendkasse)\n\n
URL:http://www.sangaklang.lu/evenement/blues-club-a-confirmer/
LOCATION:1\, rue des Trois Glands\, Luxembourg\, 1629\, Luxembourg
GEO:49.6150398;6.1340415
X-APPLE-STRUCTURED-LOCATION;VALUE=URI;X-ADDRESS=1 rue des Trois Glands Luxembourg 1629 Luxembourg;X-APPLE-RADIUS=500;X-TITLE=1\, rue des Trois Glands:geo:6.1340415,49.6150398
CATEGORIES:Concert
ORGANIZER;CN="Blues%20Club":MAILTO:info@bluesclub.lu
END:VEVENT
BEGIN:VEVENT
DTSTART;TZID=UTC+0:20171202T150000
DTEND;TZID=UTC+0:20171202T190000
DTSTAMP:20170621T024555
CREATED:20170112T070058Z
LAST-MODIFIED:20170112T072822Z
UID:900-1512226800-1512241200@www.sangaklang.lu
SUMMARY:ATSL and Czech and Slovak Drama Club : Fête de noël
DESCRIPTION:ATSL and Czech and Slovak Drama Club invitent pour une fête de noël.
URL:http://www.sangaklang.lu/evenement/atsl-and-czech-and-slovak-drama-club-fete-de-noel/
LOCATION:1\, rue des Trois Glands\, Luxembourg\, 1629\, Luxembourg
GEO:49.6150398;6.1340415
X-APPLE-STRUCTURED-LOCATION;VALUE=URI;X-ADDRESS=1 rue des Trois Glands Luxembourg 1629 Luxembourg;X-APPLE-RADIUS=500;X-TITLE=1\, rue des Trois Glands:geo:6.1340415,49.6150398
END:VEVENT
BEGIN:VEVENT
DTSTART;TZID=UTC+0:20171013T200000
DTEND;TZID=UTC+0:20171013T230000
DTSTAMP:20170621T024555
CREATED:20170112T070029Z
LAST-MODIFIED:20170126T152720Z
UID:892-1507924800-1507935600@www.sangaklang.lu
SUMMARY:Blues Club : Concert
DESCRIPTION:Blues Club Lëtzebuerg a.s.b.l.\nPhone: +352 33 28 95\nE-mail: info@bluesclub.lu\n\n\nLe Blues Club donne un concert\, pour plus de détails veulliez voir: \nhttp://www.bluesclub.lu/de/blues-konzerte/konzerte-blues-club/ \n\nEintrittspreis:\n25€/27€/29€ (Mitglieder / Nicht-Mitglieder mit Reservierung / Nicht-Mitglieder Abendkasse)\n
URL:http://www.sangaklang.lu/evenement/blues-club-concert/
LOCATION:1\, rue des Trois Glands\, Luxembourg\, 1629\, Luxembourg
GEO:49.6150398;6.1340415
X-APPLE-STRUCTURED-LOCATION;VALUE=URI;X-ADDRESS=1 rue des Trois Glands Luxembourg 1629 Luxembourg;X-APPLE-RADIUS=500;X-TITLE=1\, rue des Trois Glands:geo:6.1340415,49.6150398
CATEGORIES:Concert
ORGANIZER;CN="Blues%20Club":MAILTO:info@bluesclub.lu
END:VEVENT
BEGIN:VEVENT
DTSTART;TZID=Europe/Luxembourg:20170729T150000
DTEND;TZID=Europe/Luxembourg:20170729T233000
DTSTAMP:20170621T024555
CREATED:20170312T125854Z
LAST-MODIFIED:20170312T130055Z
UID:992-1501340400-1501371000@www.sangaklang.lu
SUMMARY:Blues'n Jazz Ralley
DESCRIPTION:
URL:http://www.sangaklang.lu/evenement/bluesn-jazz-ralley/
LOCATION:1\, rue des Trois Glands\, Luxembourg\, 1629\, Luxembourg
GEO:49.6150398;6.1340415
X-APPLE-STRUCTURED-LOCATION;VALUE=URI;X-ADDRESS=1 rue des Trois Glands Luxembourg 1629 Luxembourg;X-APPLE-RADIUS=500;X-TITLE=1\, rue des Trois Glands:geo:6.1340415,49.6150398
END:VEVENT
BEGIN:VEVENT
DTSTART;TZID=Europe/Luxembourg:20170707T200000
DTEND;TZID=Europe/Luxembourg:20170707T233000
DTSTAMP:20170621T024555
CREATED:20170312T132557Z
LAST-MODIFIED:20170312T134329Z
UID:996-1499457600-1499470200@www.sangaklang.lu
SUMMARY:Les amis du Tibet : Concert de bienfaisance
DESCRIPTION:
URL:http://www.sangaklang.lu/evenement/les-amis-du-tibet-concert-de-bienfaisance/
LOCATION:1\, rue des Trois Glands\, Luxembourg\, 1629\, Luxembourg
GEO:49.6150398;6.1340415
X-APPLE-STRUCTURED-LOCATION;VALUE=URI;X-ADDRESS=1 rue des Trois Glands Luxembourg 1629 Luxembourg;X-APPLE-RADIUS=500;X-TITLE=1\, rue des Trois Glands:geo:6.1340415,49.6150398
END:VEVENT
BEGIN:VEVENT
DTSTART;TZID=Europe/Luxembourg:20170630T190000
DTEND;TZID=Europe/Luxembourg:20170630T233000
DTSTAMP:20170621T024555
CREATED:20170312T131348Z
LAST-MODIFIED:20170312T131348Z
UID:994-1498849200-1498865400@www.sangaklang.lu
SUMMARY:Les choristes de Vanessa Bietry
DESCRIPTION:
URL:http://www.sangaklang.lu/evenement/les-choristes-de-vanessa-bietry/
LOCATION:1\, rue des Trois Glands\, Luxembourg\, 1629\, Luxembourg
GEO:49.6150398;6.1340415
X-APPLE-STRUCTURED-LOCATION;VALUE=URI;X-ADDRESS=1 rue des Trois Glands Luxembourg 1629 Luxembourg;X-APPLE-RADIUS=500;X-TITLE=1\, rue des Trois Glands:geo:6.1340415,49.6150398
END:VEVENT
END:VCALENDAR