BEGIN:VCALENDAR
VERSION:2.0
PRODID:-//Sang a Klang - ECPv4.7.3//NONSGML v1.0//EN
CALSCALE:GREGORIAN
METHOD:PUBLISH
X-WR-CALNAME:Sang a Klang
X-ORIGINAL-URL:http://www.sangaklang.lu
X-WR-CALDESC:Évènements pour Sang a Klang
BEGIN:VEVENT
DTSTART;TZID=UTC+0:20171208T200000
DTEND;TZID=UTC+0:20171208T233000
DTSTAMP:20201208T141916
CREATED:20170112T070032Z
LAST-MODIFIED:20170908T074341Z
UID:902-1512763200-1512775800@www.sangaklang.lu
SUMMARY:Blues Club
DESCRIPTION:Pour les détails voir : http://www.bluesclub.lu/de/blues-konzerte/konzerte-blues-club/ \n
URL:http://www.sangaklang.lu/evenement/blues-club-a-confirmer/
LOCATION:Sang a Klang\, 1\, rue des Trois Glands\, Luxembourg\, 1629\, Luxembourg
CATEGORIES:Concert
ORGANIZER;CN="Blues%20Club":MAILTO:info@bluesclub.lu
END:VEVENT
END:VCALENDAR