BEGIN:VCALENDAR
VERSION:2.0
PRODID:-//Sang a Klang - ECPv4.7.3//NONSGML v1.0//EN
CALSCALE:GREGORIAN
METHOD:PUBLISH
X-WR-CALNAME:Sang a Klang
X-ORIGINAL-URL:http://www.sangaklang.lu
X-WR-CALDESC:Évènements pour Sang a Klang
BEGIN:VEVENT
DTSTART;TZID=UTC+0:20170304T190000
DTEND;TZID=UTC+0:20170304T230000
DTSTAMP:20201208T142359
CREATED:20170112T070029Z
LAST-MODIFIED:20170120T171548Z
UID:861-1488654000-1488668400@www.sangaklang.lu
SUMMARY:Czech et Slovak Drama Club: Soirée dansante / Mascarade Ball 2017
DESCRIPTION:Le “Czech et Slovak Drama Club” organise un Bal de Mascarade. \n
URL:http://www.sangaklang.lu/evenement/czech-et-slovak-drama-club-soiree-dansante/
LOCATION:Sang a Klang\, 1\, rue des Trois Glands\, Luxembourg\, 1629\, Luxembourg
CATEGORIES:soirée dansante
END:VEVENT
END:VCALENDAR