BEGIN:VCALENDAR
VERSION:2.0
PRODID:-//Sang a Klang - ECPv4.7.3//NONSGML v1.0//EN
CALSCALE:GREGORIAN
METHOD:PUBLISH
X-WR-CALNAME:Sang a Klang
X-ORIGINAL-URL:http://www.sangaklang.lu
X-WR-CALDESC:Évènements pour Sang a Klang
BEGIN:VEVENT
DTSTART;TZID=UTC+0:20170211T210000
DTEND;TZID=UTC+0:20170211T230000
DTSTAMP:20201208T141940
CREATED:20170126T135533Z
LAST-MODIFIED:20170126T135223Z
UID:855-1486846800-1486854000@www.sangaklang.lu
SUMMARY:Open Stage : Concert / Stage Performance
DESCRIPTION:Concert / Stage Performance\nfree entry \nLe soir\, organisés par Nathalie Morettoni\, Christian Ries\, est ouvert à tous artists amateurs o professionals et aux différents médias. \nPerformance et l’arts visuels\, de la musique\, literature\, de la danse\, du theâtre\, de la photographie\, du cinéma\, … et enfin de l’art de médias interactives … \nLes Performance doivent être limités à moins de 20 minutes\, s’il vous plâit. \nPour plus d’informations\, veulliez voir l’événement sur http://anciencinema.lu/events/open-stage-8 s.v.p.\nwww.openstage.lu \n
URL:http://www.sangaklang.lu/evenement/open-stage-concert-2/
LOCATION:Sang a Klang\, 1\, rue des Trois Glands\, Luxembourg\, 1629\, Luxembourg
CATEGORIES:Concert
ATTACH;FMTTYPE=image/jpeg:http://www.sangaklang.lu/wp-content/uploads/2017/01/openstage_2017-1.jpg
END:VEVENT
END:VCALENDAR