BEGIN:VCALENDAR
VERSION:2.0
PRODID:-//Sang a Klang - ECPv4.7.3//NONSGML v1.0//EN
CALSCALE:GREGORIAN
METHOD:PUBLISH
X-WR-CALNAME:Sang a Klang
X-ORIGINAL-URL:http://www.sangaklang.lu
X-WR-CALDESC:Évènements pour Sang a Klang
BEGIN:VEVENT
DTSTART;TZID=UTC+0:20170401T200000
DTEND;TZID=UTC+0:20170401T230000
DTSTAMP:20201208T142132
CREATED:20170112T070015Z
LAST-MODIFIED:20170126T150636Z
UID:874-1491076800-1491087600@www.sangaklang.lu
SUMMARY:Open Stage : Concert
DESCRIPTION:Open stage \nOpen Stage @ AC \n \norganisateur:\nNathalie Morettoni\n8\, Fraeschegaass\nL-9353 Bettendorf\nTel : (+352) 80 92 18 20 \n
URL:http://www.sangaklang.lu/evenement/open-stage-concert/
LOCATION:Sang a Klang\, 1\, rue des Trois Glands\, Luxembourg\, 1629\, Luxembourg
CATEGORIES:Concert
ORGANIZER;CN="Nathalie%20Morettoni":MAILTO:nathalie.morettoni@menuiseriekraemer.lu
END:VEVENT
END:VCALENDAR